{
 "currentVersion": 10.51,
 "serviceDescription": "The Soil Survey of England and Wales (SSEW) surveyed many sites by auger bore observation of the soil profile during its active years between 1939 and 1987. Much of the legacy of this work can be found electronically in LandIS and also in the original records, publications and maps in the soil survey archive at Cranfield University.\n\nThe images presented here show a subsample of the available auger bore information in LandIS at Cranfield University. The images represent the soil profile described at the location with information on each soil horizon identified by the surveyor. These images show the following information for each soil horizon: the horizon depths; soil texture (using the standard SSEW texture triangle) and the soil matrix colour (translated into RGB from the Munsell Colour).\n",
 "mapName": "Layers",
 "description": "",
 "copyrightText": "Copyright © Cranfield University, 2018",
 "supportsDynamicLayers": false,
 "layers": [
  {
   "id": 0,
   "name": "Augers_3857",
   "parentLayerId": -1,
   "defaultVisibility": true,
   "subLayerIds": null,
   "minScale": 0,
   "maxScale": 0
  }
 ],
 "tables": [],
 "spatialReference": {
  "wkid": 102100,
  "latestWkid": 3857
 },
 "singleFusedMapCache": true,
 "tileInfo": {
  "rows": 256,
  "cols": 256,
  "dpi": 96,
  "format": "PNG32",
  "compressionQuality": 0,
  "origin": {
   "x": -2.0037508342787E7,
   "y": 2.0037508342787E7
  },
  "spatialReference": {
   "wkid": 102100,
   "latestWkid": 3857
  },
  "lods": [
   {
    "level": 0,
    "resolution": 156543.03392800014,
    "scale": 5.91657527591555E8
   },
   {
    "level": 1,
    "resolution": 78271.51696399994,
    "scale": 2.95828763795777E8
   },
   {
    "level": 2,
    "resolution": 39135.75848200009,
    "scale": 1.47914381897889E8
   },
   {
    "level": 3,
    "resolution": 19567.87924099992,
    "scale": 7.3957190948944E7
   },
   {
    "level": 4,
    "resolution": 9783.93962049996,
    "scale": 3.6978595474472E7
   },
   {
    "level": 5,
    "resolution": 4891.96981024998,
    "scale": 1.8489297737236E7
   },
   {
    "level": 6,
    "resolution": 2445.98490512499,
    "scale": 9244648.868618
   },
   {
    "level": 7,
    "resolution": 1222.992452562495,
    "scale": 4622324.434309
   },
   {
    "level": 8,
    "resolution": 611.4962262813797,
    "scale": 2311162.217155
   },
   {
    "level": 9,
    "resolution": 305.74811314055756,
    "scale": 1155581.108577
   },
   {
    "level": 10,
    "resolution": 152.87405657041106,
    "scale": 577790.554289
   },
   {
    "level": 11,
    "resolution": 76.43702828507324,
    "scale": 288895.277144
   },
   {
    "level": 12,
    "resolution": 38.21851414253662,
    "scale": 144447.638572
   },
   {
    "level": 13,
    "resolution": 19.10925707126831,
    "scale": 72223.819286
   },
   {
    "level": 14,
    "resolution": 9.554628535634155,
    "scale": 36111.909643
   },
   {
    "level": 15,
    "resolution": 4.77731426794937,
    "scale": 18055.954822
   },
   {
    "level": 16,
    "resolution": 2.388657133974685,
    "scale": 9027.977411
   },
   {
    "level": 17,
    "resolution": 1.1943285668550503,
    "scale": 4513.988705
   },
   {
    "level": 18,
    "resolution": 0.5971642835598172,
    "scale": 2256.994353
   },
   {
    "level": 19,
    "resolution": 0.29858214164761665,
    "scale": 1128.497176
   }
  ]
 },
 "initialExtent": {
  "xmin": -276481.8716886288,
  "ymin": 6870027.25925783,
  "xmax": -84790.86330661202,
  "ymax": 6979168.102539516,
  "spatialReference": {
   "cs": "pcs",
   "wkid": 102100
  }
 },
 "fullExtent": {
  "xmin": -633297.7292066837,
  "ymin": 6454468.001874112,
  "xmax": 193903.65939551644,
  "ymax": 7520124.5513133155,
  "spatialReference": {
   "cs": "pcs",
   "wkid": 102100
  }
 },
 "minScale": 1.8489297737236E7,
 "maxScale": 36111.909643,
 "units": "esriMeters",
 "supportedImageFormatTypes": "PNG32,PNG24,PNG,JPG,DIB,TIFF,EMF,PS,PDF,GIF,SVG,SVGZ,BMP",
 "documentInfo": {
  "Title": "",
  "Author": "",
  "Comments": "The Soil Survey of England and Wales (SSEW) surveyed many sites by auger bore observation of the soil profile during its active years between 1939 and 1987. Much of the legacy of this work can be found electronically in LandIS and also in the original records, publications and maps in the soil survey archive at Cranfield University.\n\nThe images presented here show a subsample of the available auger bore information in LandIS at Cranfield University. The images represent the soil profile described at the location with information on each soil horizon identified by the surveyor. These images show the following information for each soil horizon: the horizon depths; soil texture (using the standard SSEW texture triangle) and the soil matrix colour (translated into RGB from the Munsell Colour).\n",
  "Subject": "Auger bore profile observations",
  "Category": "",
  "AntialiasingMode": "Normal",
  "TextAntialiasingMode": "Force",
  "Keywords": ""
 },
 "capabilities": "Map,Query,Data",
 "supportedQueryFormats": "JSON, AMF, geoJSON",
 "exportTilesAllowed": false,
 "supportsDatumTransformation": true,
 "maxRecordCount": 1000,
 "maxImageHeight": 4096,
 "maxImageWidth": 4096,
 "supportedExtensions": "WMSServer"
}
