{
 "currentVersion": 10.51,
 "serviceDescription": "This map shows the extents of the detailed soil mapping available for a variety of scales from NSRI Cranfield. These maps were conducted over three principle time periods.\n\nFrom 1939 to 1966, mapping was carried out at a scale of 1:63,360 (1\u201d to 1 mile). The areas mapped being selected to represent typical landscape types, soil problems, complexity of soil pattern and land use. Some 10% of England and Wales is mapped at this scale. Each map sheet covers 663 km² and 25 of these sheets have been published\n\nBetween 1966 and 1979, mapping was carried out at 1:25,000. More than 100 of these maps have been published together with accompanying books. The distribution of the areas selected corresponds with the Ordnance Survey 10x10km 1:25,000 series. Mapping at this scale relates soil type to individual fields depicted on the base map. The choice of mapped areas was based on pedological, geomorphological and scientific agricultural interest, representing wider districts with similar environments.\n\nThe period 1983 to 1985 resulted in the publication of five 1:50,000 maps, each of 1,600 km². The mapping procedures were similar to those used for previous local mapping. However, average density of observations was reduced proportionally. These maps were published with accompanying descriptive memoirs.\n\nFor more information on the NSRI detailed soil mapping, refer to http://www.landis.org.uk/services/ukso.cfm.",
 "mapName": "Layers",
 "description": "",
 "copyrightText": "Copyright © Cranfield University, 2018",
 "supportsDynamicLayers": false,
 "layers": [
  {
   "id": 0,
   "name": "DetailedSoilMapping_Cranfield",
   "parentLayerId": -1,
   "defaultVisibility": true,
   "subLayerIds": null,
   "minScale": 0,
   "maxScale": 0
  }
 ],
 "tables": [],
 "spatialReference": {
  "wkid": 102100,
  "latestWkid": 3857
 },
 "singleFusedMapCache": true,
 "tileInfo": {
  "rows": 256,
  "cols": 256,
  "dpi": 96,
  "format": "PNG",
  "compressionQuality": 0,
  "origin": {
   "x": -2.0037508342787E7,
   "y": 2.0037508342787E7
  },
  "spatialReference": {
   "wkid": 102100,
   "latestWkid": 3857
  },
  "lods": [
   {
    "level": 0,
    "resolution": 156543.033928,
    "scale": 5.91657527591555E8
   },
   {
    "level": 1,
    "resolution": 78271.5169639999,
    "scale": 2.95828763795777E8
   },
   {
    "level": 2,
    "resolution": 39135.7584820001,
    "scale": 1.47914381897889E8
   },
   {
    "level": 3,
    "resolution": 19567.8792409999,
    "scale": 7.3957190948944E7
   },
   {
    "level": 4,
    "resolution": 9783.93962049996,
    "scale": 3.6978595474472E7
   },
   {
    "level": 5,
    "resolution": 4891.96981024998,
    "scale": 1.8489297737236E7
   },
   {
    "level": 6,
    "resolution": 2445.98490512499,
    "scale": 9244648.868618
   },
   {
    "level": 7,
    "resolution": 1222.99245256249,
    "scale": 4622324.434309
   },
   {
    "level": 8,
    "resolution": 611.49622628138,
    "scale": 2311162.217155
   },
   {
    "level": 9,
    "resolution": 305.748113140558,
    "scale": 1155581.108577
   },
   {
    "level": 10,
    "resolution": 152.874056570411,
    "scale": 577790.554289
   },
   {
    "level": 11,
    "resolution": 76.4370282850732,
    "scale": 288895.277144
   },
   {
    "level": 12,
    "resolution": 38.2185141425366,
    "scale": 144447.638572
   },
   {
    "level": 13,
    "resolution": 19.1092570712683,
    "scale": 72223.819286
   },
   {
    "level": 14,
    "resolution": 9.55462853563415,
    "scale": 36111.909643
   },
   {
    "level": 15,
    "resolution": 4.77731426794937,
    "scale": 18055.954822
   },
   {
    "level": 16,
    "resolution": 2.38865713397468,
    "scale": 9027.977411
   },
   {
    "level": 17,
    "resolution": 1.19432856685505,
    "scale": 4513.988705
   },
   {
    "level": 18,
    "resolution": 0.597164283559817,
    "scale": 2256.994353
   },
   {
    "level": 19,
    "resolution": 0.298582141647617,
    "scale": 1128.497176
   }
  ]
 },
 "initialExtent": {
  "xmin": -894191.8815958411,
  "ymin": 6794290.686796291,
  "xmax": 434547.5691958395,
  "ymax": 7577490.769580005,
  "spatialReference": {
   "cs": "pcs",
   "wkid": 102100
  }
 },
 "fullExtent": {
  "xmin": -653384.8262000009,
  "ymin": 6438045.131899998,
  "xmax": 193740.5137999989,
  "ymax": 7523231.453500003,
  "spatialReference": {
   "cs": "pcs",
   "wkid": 102100
  }
 },
 "minScale": 1.8489297737236E7,
 "maxScale": 36111.909643,
 "units": "esriMeters",
 "supportedImageFormatTypes": "PNG32,PNG24,PNG,JPG,DIB,TIFF,EMF,PS,PDF,GIF,SVG,SVGZ,BMP",
 "documentInfo": {
  "Title": "UKSO Cranfield Data",
  "Author": "",
  "Comments": "",
  "Subject": "",
  "Category": "",
  "AntialiasingMode": "None",
  "TextAntialiasingMode": "Force",
  "Keywords": "Cranfield University, NSRI, SSLRC, SSEW, Soil Survey, GIS, Detailed Soil Survey, Mapping"
 },
 "capabilities": "Map,Query,Data",
 "supportedQueryFormats": "JSON, AMF, geoJSON",
 "exportTilesAllowed": false,
 "datumTransformations": [
  {
   "geoTransforms": [
    {
     "wkid": 8246,
     "latestWkid": 1314,
     "transformForward": true,
     "name": "OSGB_1936_To_WGS_1984_Petroleum"
    }
   ]
  },
  {
   "geoTransforms": [
    {
     "wkid": 8246,
     "latestWkid": 1314,
     "transformForward": false,
     "name": "OSGB_1936_To_WGS_1984_Petroleum"
    }
   ]
  }
 ],
 "supportsDatumTransformation": true,
 "maxRecordCount": 1000,
 "maxImageHeight": 4096,
 "maxImageWidth": 4096,
 "supportedExtensions": "WMSServer"
}
