{
 "currentVersion": 10.51,
 "serviceDescription": "An understanding of the potential of different areas within a landscape to support different woodland types is crucial to planning the restoration and expansion of native woodland. The Native Woodland Model has been developed as a strategic tool to aid those involved in such projects, whether on currently unwooded land or in non-native forest plantations. It is suitable for use at scales above 1:50,000.\n\nThe methodology relies on the interpretation of integrated soils and land cover data in relation to the growth requirements of different woodland types. Combinations of these attributes are assessed and an optimal native woodland type is assigned to each combination. This is a very pragmatic model and uses major soil subgroup and geology (effectively soil series in a Scottish context), rather than specific attributes and thresholds. This is then qualified by land cover which has been used to assess how the soil may or may not have been modified by human intervention. The approach might best be described as \u2018map unit interpretation\u2019, qualified by knowledge of current land cover (from LCS88, although LCM2000 is equally valid and possibly more so because of its currency).\n\nReferences\nTowers, W., Hall J., Hester, A. Malcom, A. and Stone, D. (2004) The potential for native woodland in Scotland: the native woodland model. Scottish Natural Heritage\nTowers, W., Hester, A.J., Malcolm, A., Stone, D. and Gray, H. (2002) The use of soils data in natural heritage planning and management. Soil Use and Management, 18, 26-33.\nHester, A.J., Towers, W. and Malcolm, A. (2003) Modelling the potential distribution of woodland at the landscape scale. In: The restoration of wooded landscapes (Eds. J. Humphrey, A. Newton, J. Latham, H. Gray, K. Kirby. E. Poulson and C. Quine). Forestry Commission, Edinburgh.\nTowers, W., Hester, A.J., Malcolm, A., Hall, J. and Stone, D. (2004) The potential for native woodland in Scotland: the native woodland model. Scottish Natural Heritage, Battleby, Perth. Natural Heritage Management Series. 56p. Includes CD ROM. ISBN 1 85397 390 4\n\nFor more information on the Native Woodland Model, refer to http://www.landis.org.uk/services/ukso.cfm.",
 "mapName": "Layers",
 "description": "",
 "copyrightText": "Copyright © Cranfield University, 2018",
 "supportsDynamicLayers": false,
 "layers": [
  {
   "id": 0,
   "name": "NativeWoodlandSuitability_Cranfield",
   "parentLayerId": -1,
   "defaultVisibility": true,
   "subLayerIds": null,
   "minScale": 0,
   "maxScale": 0
  }
 ],
 "tables": [],
 "spatialReference": {
  "wkid": 102100,
  "latestWkid": 3857
 },
 "singleFusedMapCache": true,
 "tileInfo": {
  "rows": 256,
  "cols": 256,
  "dpi": 96,
  "format": "PNG",
  "compressionQuality": 0,
  "origin": {
   "x": -2.0037508342787E7,
   "y": 2.0037508342787E7
  },
  "spatialReference": {
   "wkid": 102100,
   "latestWkid": 3857
  },
  "lods": [
   {
    "level": 0,
    "resolution": 156543.033928,
    "scale": 5.91657527591555E8
   },
   {
    "level": 1,
    "resolution": 78271.5169639999,
    "scale": 2.95828763795777E8
   },
   {
    "level": 2,
    "resolution": 39135.7584820001,
    "scale": 1.47914381897889E8
   },
   {
    "level": 3,
    "resolution": 19567.8792409999,
    "scale": 7.3957190948944E7
   },
   {
    "level": 4,
    "resolution": 9783.93962049996,
    "scale": 3.6978595474472E7
   },
   {
    "level": 5,
    "resolution": 4891.96981024998,
    "scale": 1.8489297737236E7
   },
   {
    "level": 6,
    "resolution": 2445.98490512499,
    "scale": 9244648.868618
   },
   {
    "level": 7,
    "resolution": 1222.99245256249,
    "scale": 4622324.434309
   },
   {
    "level": 8,
    "resolution": 611.49622628138,
    "scale": 2311162.217155
   },
   {
    "level": 9,
    "resolution": 305.748113140558,
    "scale": 1155581.108577
   },
   {
    "level": 10,
    "resolution": 152.874056570411,
    "scale": 577790.554289
   },
   {
    "level": 11,
    "resolution": 76.4370282850732,
    "scale": 288895.277144
   },
   {
    "level": 12,
    "resolution": 38.2185141425366,
    "scale": 144447.638572
   },
   {
    "level": 13,
    "resolution": 19.1092570712683,
    "scale": 72223.819286
   },
   {
    "level": 14,
    "resolution": 9.55462853563415,
    "scale": 36111.909643
   },
   {
    "level": 15,
    "resolution": 4.77731426794937,
    "scale": 18055.954822
   },
   {
    "level": 16,
    "resolution": 2.38865713397468,
    "scale": 9027.977411
   },
   {
    "level": 17,
    "resolution": 1.19432856685505,
    "scale": 4513.988705
   },
   {
    "level": 18,
    "resolution": 0.597164283559817,
    "scale": 2256.994353
   },
   {
    "level": 19,
    "resolution": 0.298582141647617,
    "scale": 1128.497176
   }
  ]
 },
 "initialExtent": {
  "xmin": -931286.4733758345,
  "ymin": 6783329.315051291,
  "xmax": 413144.01607583463,
  "ymax": 7575778.180784998,
  "spatialReference": {
   "cs": "pcs",
   "wkid": 102100
  }
 },
 "fullExtent": {
  "xmin": -714413.1409000009,
  "ymin": 6422876.868600003,
  "xmax": 196270.68360000104,
  "ymax": 7520878.118299998,
  "spatialReference": {
   "cs": "pcs",
   "wkid": 102100
  }
 },
 "minScale": 1.8489297737236E7,
 "maxScale": 36111.909643,
 "units": "esriMeters",
 "supportedImageFormatTypes": "PNG32,PNG24,PNG,JPG,DIB,TIFF,EMF,PS,PDF,GIF,SVG,SVGZ,BMP",
 "documentInfo": {
  "Title": "UKSO Cranfield Data",
  "Author": "",
  "Comments": "",
  "Subject": "",
  "Category": "",
  "AntialiasingMode": "None",
  "TextAntialiasingMode": "Force",
  "Keywords": "Cranfield University, NSRI, SSLRC, SSEW, Soil Survey, GIS, Native Woodland Suitability"
 },
 "capabilities": "Map,Query,Data",
 "supportedQueryFormats": "JSON, AMF, geoJSON",
 "exportTilesAllowed": false,
 "datumTransformations": [
  {
   "geoTransforms": [
    {
     "wkid": 8246,
     "latestWkid": 1314,
     "transformForward": true,
     "name": "OSGB_1936_To_WGS_1984_Petroleum"
    }
   ]
  },
  {
   "geoTransforms": [
    {
     "wkid": 8246,
     "latestWkid": 1314,
     "transformForward": false,
     "name": "OSGB_1936_To_WGS_1984_Petroleum"
    }
   ]
  }
 ],
 "supportsDatumTransformation": true,
 "maxRecordCount": 1000,
 "maxImageHeight": 4096,
 "maxImageWidth": 4096,
 "supportedExtensions": "WMSServer"
}
