View In:
ArcGIS JavaScript
ArcGIS Online map viewer
Google Earth
ArcMap
ArcGIS Explorer
View Footprint In:
ArcGIS Online map viewer
Service Description: The objective of the model is to assess the metal binding capacity of different soils for different metals and is based on the approach from Blume and Brummer (1991). The methodology is based on a weighted parametric classification and consists of a series of look-up tables that allows the user to ‘score’ a number of soil attributes and to ultimately arrive at a total score. This total score is then translated into a textual description of relative binding class; six classes have been identified ranging from very strong to no binding capacity.
References
Blume, H.P. and Brümmer, G. (1991) Prediction of heavy metal behaviour in soil by means of simple field tests, Ecotoxicology and Environmental Safety, 22, pp. 164-174.
Paterson, E, Towers, W, Lumsdon, DG and Meeussen, JC (1997) Responses of Scottish soils to heavy metal inputs. Scottish Natural Heritage Review No 61, SNH Edinburgh.
Towers, W. and Paterson, E. (1997) Sewage sludge application to land - a preliminary assessment of the sensitivity of Scottish soils to heavy metal inputs. Soil Use and Management, 13(3), 149-155.
For more information on Metal Binding Capacity, refer to http://www.landis.org.uk/services/ukso.cfm.
Map Name: Layers
Legend
All Layers and Tables
Layers:
Description:
Copyright Text: Copyright © Cranfield University, 2018
Spatial Reference:
102100
(3857)
Single Fused Map Cache: true
Tile Info:
- Height: 256
- Width: 256
- DPI: 96
-
Levels of Detail: 20
-
Level ID: 1
[ Start Tile, End Tile ]
- Resolution: 78271.5169639999
- Scale: 2.95828763795777E8
-
Level ID: 2
[ Start Tile, End Tile ]
- Resolution: 39135.7584820001
- Scale: 1.47914381897889E8
-
Level ID: 3
[ Start Tile, End Tile ]
- Resolution: 19567.8792409999
- Scale: 7.3957190948944E7
-
Level ID: 4
[ Start Tile, End Tile ]
- Resolution: 9783.93962049996
- Scale: 3.6978595474472E7
-
Level ID: 5
[ Start Tile, End Tile ]
- Resolution: 4891.96981024998
- Scale: 1.8489297737236E7
- Format: PNG
- Compression Quality: 0.0
- Origin: X: -2.0037508342787E7
Y: 2.0037508342787E7
- Spatial Reference: 102100
(3857)
Initial Extent:
XMin: -931286.4733758345
YMin: 6783329.315051291
XMax: 413144.01607583463
YMax: 7575778.180784998
Spatial Reference: 102100
Full Extent:
XMin: -714413.1409000009
YMin: 6422876.868600003
XMax: 196270.68360000104
YMax: 7520878.118299998
Spatial Reference: 102100
Units: esriMeters
Supported Image Format Types: PNG32,PNG24,PNG,JPG,DIB,TIFF,EMF,PS,PDF,GIF,SVG,SVGZ,BMP
Document Info:
Title: UKSO Cranfield Data
Author:
Comments:
Subject:
Category:
Keywords: Cranfield University, NSRI, SSLRC, SSEW, Soil Survey, GIS, Metal Binding, Soil Functions
AntialiasingMode: None
TextAntialiasingMode: Force
Supports Dynamic Layers: false
MaxRecordCount: 1000
MaxImageHeight: 4096
MaxImageWidth: 4096
Supported Query Formats: JSON, AMF, geoJSON
Min Scale: 1.8489297737236E7
Max Scale: 36111.909643
Supports Datum Transformation: true
Child Resources:
Info
Supported Operations:
Export Map
Identify
QueryDomains
Find
Return Updates