View In:
ArcGIS JavaScript
ArcGIS Online map viewer
Google Earth
ArcMap
ArcGIS Explorer
View Footprint In:
ArcGIS Online map viewer
Service Description: Soilscapes is a 1:250,000 scale, simplified soils dataset covering England and Wales. It was created from the far more detailed National Soil Map (NATMAP Vector) held by the National Soil Resources Institute (NSRI) at Cranfield University, with the purpose of communicating a general understanding of the variations which occur between soil types, and how soils affect the environment and landscape of the two countries. Soil exerts a strong influence on our whole ecosystem, being the foundation for many of the ecosystem services and functions, and is a fragile resource that needs to be understood and protected.
For more detail on the soilscape units check out Cranfield’s online Soilscapes Viewer (http://www.landis.org.uk/services/soilscapes.cfm).
For more information on the classification of soils in England and Wales refer to the online Cranfield Soils Guide (http://www.landis.org.uk/services/soilsguide/index.cfm).
Map Name: Layers
Legend
All Layers and Tables
Layers:
Description:
Copyright Text: Copyright © Cranfield University, 2018
Spatial Reference:
102100
(3857)
Single Fused Map Cache: true
Tile Info:
- Height: 256
- Width: 256
- DPI: 96
-
Levels of Detail: 20
-
Level ID: 1
[ Start Tile, End Tile ]
- Resolution: 78271.5169639999
- Scale: 2.95828763795777E8
-
Level ID: 2
[ Start Tile, End Tile ]
- Resolution: 39135.7584820001
- Scale: 1.47914381897889E8
-
Level ID: 3
[ Start Tile, End Tile ]
- Resolution: 19567.8792409999
- Scale: 7.3957190948944E7
-
Level ID: 4
[ Start Tile, End Tile ]
- Resolution: 9783.93962049996
- Scale: 3.6978595474472E7
-
Level ID: 5
[ Start Tile, End Tile ]
- Resolution: 4891.96981024998
- Scale: 1.8489297737236E7
- Format: PNG
- Compression Quality: 0.0
- Origin: X: -2.0037508342787E7
Y: 2.0037508342787E7
- Spatial Reference: 102100
(3857)
Initial Extent:
XMin: -908169.2851548342
YMin: 6789401.371994893
XMax: 393583.3183503728
YMax: 7556694.573247963
Spatial Reference: 102100
Full Extent:
XMin: -714413.1409000009
YMin: 6422876.868600003
XMax: 196270.68360000104
YMax: 7520878.118299998
Spatial Reference: 102100
Units: esriMeters
Supported Image Format Types: PNG32,PNG24,PNG,JPG,DIB,TIFF,EMF,PS,PDF,GIF,SVG,SVGZ,BMP
Document Info:
Title: UKSO Cranfield Data
Author:
Comments:
Subject:
Category:
Keywords: Cranfield University, NSRI, SSLRC, SSEW, Soil Survey, GIS, Soilscapes
AntialiasingMode: None
TextAntialiasingMode: Force
Supports Dynamic Layers: false
MaxRecordCount: 1000
MaxImageHeight: 4096
MaxImageWidth: 4096
Supported Query Formats: JSON, AMF, geoJSON
Min Scale: 1.8489297737236E7
Max Scale: 36111.909643
Supports Datum Transformation: true
Child Resources:
Info
Supported Operations:
Export Map
Identify
QueryDomains
Find
Return Updates