View In:
ArcGIS JavaScript
ArcGIS Online map viewer
Google Earth
ArcMap
ArcGIS Explorer
View Footprint In:
ArcGIS Online map viewer
Service Description: The database gives soil organic carbon, sand, silt and clay contents and bulk density weighted to reference layers from 0 to 30 cm and from 30 to 100 cm depths. The data are interpolated from information on soil types and land use on a 1 km grid across the UK and are used to estimate soil carbon stocks. The objective of this research was to derive high-resolution spatial data on soil and land-use data for use by dynamic simulation model of carbon fluxes from soils resulting from land-use change.
The Soil Spatial Distribution was based on the revised 1:250,000 national soil map for England and Wales, the 1:250,000 national soil map for Scotland and the 1:50,000 soil series map for Northern Ireland. Soil profile information were derived from the Soil Reference database and the National Soil Inventory for England and Wales, the Scottish soil database and the attribute database of all soil horizons at a 5km inspection pits sampled as part of the Department for Agriculture and Rural Development soil survey.
References
Bradley, R.I., Milne, R., Bell, J., Lilly, A., Jordan, C. and Higgins, A. (2005) A soil carbon and land use database for the United Kingdom. Soil Use and Management 21:363-369.
For more information on the Topsoil Carbon Stocks Map, refer to http://www.landis.org.uk/services/ukso.cfm.
Map Name: Layers
Legend
All Layers and Tables
Layers:
Description:
Copyright Text: Copyright © Cranfield University, 2018
Spatial Reference:
102100
(3857)
Single Fused Map Cache: true
Tile Info:
- Height: 256
- Width: 256
- DPI: 96
-
Levels of Detail: 20
-
Level ID: 1
[ Start Tile, End Tile ]
- Resolution: 78271.5169639999
- Scale: 2.95828763795777E8
-
Level ID: 2
[ Start Tile, End Tile ]
- Resolution: 39135.7584820001
- Scale: 1.47914381897889E8
-
Level ID: 3
[ Start Tile, End Tile ]
- Resolution: 19567.8792409999
- Scale: 7.3957190948944E7
-
Level ID: 4
[ Start Tile, End Tile ]
- Resolution: 9783.93962049996
- Scale: 3.6978595474472E7
-
Level ID: 5
[ Start Tile, End Tile ]
- Resolution: 4891.96981024998
- Scale: 1.8489297737236E7
- Format: PNG
- Compression Quality: 0.0
- Origin: X: -2.0037508342787E7
Y: 2.0037508342787E7
- Spatial Reference: 102100
(3857)
Initial Extent:
XMin: -883248.8648966972
YMin: 6794024.096325315
XMax: 443234.19489669544
YMax: 7575894.192544998
Spatial Reference: 102100
Full Extent:
XMin: -637106.1805000007
YMin: 6438383.497699998
XMax: 197091.51049999893
YMax: 7521727.016599998
Spatial Reference: 102100
Units: esriMeters
Supported Image Format Types: PNG32,PNG24,PNG,JPG,DIB,TIFF,EMF,PS,PDF,GIF,SVG,SVGZ,BMP
Document Info:
Title: UKSO Cranfield Data
Author:
Comments:
Subject:
Category:
Keywords: Cranfield University, NSRI, SSLRC, SSEW, Soil Survey, GIS, Topsoil Carbon Stock
AntialiasingMode: None
TextAntialiasingMode: Force
Supports Dynamic Layers: false
MaxRecordCount: 1000
MaxImageHeight: 4096
MaxImageWidth: 4096
Supported Query Formats: JSON, AMF, geoJSON
Min Scale: 1.8489297737236E7
Max Scale: 36111.909643
Supports Datum Transformation: true
Child Resources:
Info
Supported Operations:
Export Map
Identify
QueryDomains
Find
Return Updates