View In:
ArcGIS JavaScript
ArcGIS Online map viewer
Google Earth
ArcMap
ArcGIS Explorer
View Footprint In:
ArcGIS Online map viewer
Service Description: The Soil Survey of England and Wales (SSEW) surveyed many sites by auger bore observation of the soil profile during its active years between 1939 and 1987. Much of the legacy of this work can be found electronically in LandIS and also in the original records, publications and maps in the soil survey archive at Cranfield University.
The images presented here show a subsample of the available auger bore information in LandIS at Cranfield University. The images represent the soil profile described at the location with information on each soil horizon identified by the surveyor. These images show the following information for each soil horizon: the horizon depths; soil texture (using the standard SSEW texture triangle) and the soil matrix colour (translated into RGB from the Munsell Colour).
Map Name: Layers
Legend
All Layers and Tables
Layers:
Description:
Copyright Text: Copyright © Cranfield University, 2018
Spatial Reference:
102100
(3857)
Single Fused Map Cache: true
Tile Info:
- Height: 256
- Width: 256
- DPI: 96
-
Levels of Detail: 20
-
Level ID: 0
[ Start Tile, End Tile ]
- Resolution: 156543.03392800014
- Scale: 5.91657527591555E8
-
Level ID: 1
[ Start Tile, End Tile ]
- Resolution: 78271.51696399994
- Scale: 2.95828763795777E8
-
Level ID: 2
[ Start Tile, End Tile ]
- Resolution: 39135.75848200009
- Scale: 1.47914381897889E8
-
Level ID: 3
[ Start Tile, End Tile ]
- Resolution: 19567.87924099992
- Scale: 7.3957190948944E7
-
Level ID: 4
[ Start Tile, End Tile ]
- Resolution: 9783.93962049996
- Scale: 3.6978595474472E7
-
Level ID: 5
[ Start Tile, End Tile ]
- Resolution: 4891.96981024998
- Scale: 1.8489297737236E7
- Format: PNG32
- Compression Quality: 0.0
- Origin: X: -2.0037508342787E7
Y: 2.0037508342787E7
- Spatial Reference: 102100
(3857)
Initial Extent:
XMin: -276481.8716886288
YMin: 6870027.25925783
XMax: -84790.86330661202
YMax: 6979168.102539516
Spatial Reference: 102100
Full Extent:
XMin: -633297.7292066837
YMin: 6454468.001874112
XMax: 193903.65939551644
YMax: 7520124.5513133155
Spatial Reference: 102100
Units: esriMeters
Supported Image Format Types: PNG32,PNG24,PNG,JPG,DIB,TIFF,EMF,PS,PDF,GIF,SVG,SVGZ,BMP
Document Info:
Title:
Author:
Comments: The Soil Survey of England and Wales (SSEW) surveyed many sites by auger bore observation of the soil profile during its active years between 1939 and 1987. Much of the legacy of this work can be found electronically in LandIS and also in the original records, publications and maps in the soil survey archive at Cranfield University.
The images presented here show a subsample of the available auger bore information in LandIS at Cranfield University. The images represent the soil profile described at the location with information on each soil horizon identified by the surveyor. These images show the following information for each soil horizon: the horizon depths; soil texture (using the standard SSEW texture triangle) and the soil matrix colour (translated into RGB from the Munsell Colour).
Subject: Auger bore profile observations
Category:
Keywords:
AntialiasingMode: Normal
TextAntialiasingMode: Force
Supports Dynamic Layers: false
MaxRecordCount: 1000
MaxImageHeight: 4096
MaxImageWidth: 4096
Supported Query Formats: JSON, AMF, geoJSON
Min Scale: 1.8489297737236E7
Max Scale: 36111.909643
Supports Datum Transformation: true
Child Resources:
Info
Supported Operations:
Export Map
Identify
QueryDomains
Find
Return Updates