View In:
ArcGIS JavaScript
ArcGIS Online map viewer
Google Earth
ArcMap
ArcGIS Explorer
View Footprint In:
ArcGIS Online map viewer
Service Description: An understanding of the potential of different areas within a landscape to support different woodland types is crucial to planning the restoration and expansion of native woodland. The Native Woodland Model has been developed as a strategic tool to aid those involved in such projects, whether on currently unwooded land or in non-native forest plantations. It is suitable for use at scales above 1:50,000.
The methodology relies on the interpretation of integrated soils and land cover data in relation to the growth requirements of different woodland types. Combinations of these attributes are assessed and an optimal native woodland type is assigned to each combination. This is a very pragmatic model and uses major soil subgroup and geology (effectively soil series in a Scottish context), rather than specific attributes and thresholds. This is then qualified by land cover which has been used to assess how the soil may or may not have been modified by human intervention. The approach might best be described as ‘map unit interpretation’, qualified by knowledge of current land cover (from LCS88, although LCM2000 is equally valid and possibly more so because of its currency).
References
Towers, W., Hall J., Hester, A. Malcom, A. and Stone, D. (2004) The potential for native woodland in Scotland: the native woodland model. Scottish Natural Heritage
Towers, W., Hester, A.J., Malcolm, A., Stone, D. and Gray, H. (2002) The use of soils data in natural heritage planning and management. Soil Use and Management, 18, 26-33.
Hester, A.J., Towers, W. and Malcolm, A. (2003) Modelling the potential distribution of woodland at the landscape scale. In: The restoration of wooded landscapes (Eds. J. Humphrey, A. Newton, J. Latham, H. Gray, K. Kirby. E. Poulson and C. Quine). Forestry Commission, Edinburgh.
Towers, W., Hester, A.J., Malcolm, A., Hall, J. and Stone, D. (2004) The potential for native woodland in Scotland: the native woodland model. Scottish Natural Heritage, Battleby, Perth. Natural Heritage Management Series. 56p. Includes CD ROM. ISBN 1 85397 390 4
For more information on the Native Woodland Model, refer to http://www.landis.org.uk/services/ukso.cfm.
Map Name: Layers
Legend
All Layers and Tables
Layers:
Description:
Copyright Text: Copyright © Cranfield University, 2018
Spatial Reference:
102100
(3857)
Single Fused Map Cache: true
Tile Info:
- Height: 256
- Width: 256
- DPI: 96
-
Levels of Detail: 20
-
Level ID: 1
[ Start Tile, End Tile ]
- Resolution: 78271.5169639999
- Scale: 2.95828763795777E8
-
Level ID: 2
[ Start Tile, End Tile ]
- Resolution: 39135.7584820001
- Scale: 1.47914381897889E8
-
Level ID: 3
[ Start Tile, End Tile ]
- Resolution: 19567.8792409999
- Scale: 7.3957190948944E7
-
Level ID: 4
[ Start Tile, End Tile ]
- Resolution: 9783.93962049996
- Scale: 3.6978595474472E7
-
Level ID: 5
[ Start Tile, End Tile ]
- Resolution: 4891.96981024998
- Scale: 1.8489297737236E7
- Format: PNG
- Compression Quality: 0.0
- Origin: X: -2.0037508342787E7
Y: 2.0037508342787E7
- Spatial Reference: 102100
(3857)
Initial Extent:
XMin: -931286.4733758345
YMin: 6783329.315051291
XMax: 413144.01607583463
YMax: 7575778.180784998
Spatial Reference: 102100
Full Extent:
XMin: -714413.1409000009
YMin: 6422876.868600003
XMax: 196270.68360000104
YMax: 7520878.118299998
Spatial Reference: 102100
Units: esriMeters
Supported Image Format Types: PNG32,PNG24,PNG,JPG,DIB,TIFF,EMF,PS,PDF,GIF,SVG,SVGZ,BMP
Document Info:
Title: UKSO Cranfield Data
Author:
Comments:
Subject:
Category:
Keywords: Cranfield University, NSRI, SSLRC, SSEW, Soil Survey, GIS, Native Woodland Suitability
AntialiasingMode: None
TextAntialiasingMode: Force
Supports Dynamic Layers: false
MaxRecordCount: 1000
MaxImageHeight: 4096
MaxImageWidth: 4096
Supported Query Formats: JSON, AMF, geoJSON
Min Scale: 1.8489297737236E7
Max Scale: 36111.909643
Supports Datum Transformation: true
Child Resources:
Info
Supported Operations:
Export Map
Identify
QueryDomains
Find
Return Updates